BEGIN:VCALENDAR
VERSION:2.0
PRODID:-//Yoyo van der Kooi Grandma - ECPv6.15.17.1//NONSGML v1.0//EN
CALSCALE:GREGORIAN
METHOD:PUBLISH
X-WR-CALNAME:Yoyo van der Kooi Grandma
X-ORIGINAL-URL:https://www.yoyo.nl
X-WR-CALDESC:Evenementen voor Yoyo van der Kooi Grandma
REFRESH-INTERVAL;VALUE=DURATION:PT1H
X-Robots-Tag:noindex
X-PUBLISHED-TTL:PT1H
BEGIN:VTIMEZONE
TZID:Europe/Amsterdam
BEGIN:DAYLIGHT
TZOFFSETFROM:+0100
TZOFFSETTO:+0200
TZNAME:CEST
DTSTART:20240331T010000
END:DAYLIGHT
BEGIN:STANDARD
TZOFFSETFROM:+0200
TZOFFSETTO:+0100
TZNAME:CET
DTSTART:20241027T010000
END:STANDARD
BEGIN:DAYLIGHT
TZOFFSETFROM:+0100
TZOFFSETTO:+0200
TZNAME:CEST
DTSTART:20250330T010000
END:DAYLIGHT
BEGIN:STANDARD
TZOFFSETFROM:+0200
TZOFFSETTO:+0100
TZNAME:CET
DTSTART:20251026T010000
END:STANDARD
BEGIN:DAYLIGHT
TZOFFSETFROM:+0100
TZOFFSETTO:+0200
TZNAME:CEST
DTSTART:20260329T010000
END:DAYLIGHT
BEGIN:STANDARD
TZOFFSETFROM:+0200
TZOFFSETTO:+0100
TZNAME:CET
DTSTART:20261025T010000
END:STANDARD
END:VTIMEZONE
BEGIN:VEVENT
DTSTART;TZID=Europe/Amsterdam:20250730T100000
DTEND;TZID=Europe/Amsterdam:20250803T150000
DTSTAMP:20260425T131540
CREATED:20250407T092356Z
LAST-MODIFIED:20250725T155620Z
UID:10000014-1753869600-1754233200@www.yoyo.nl
SUMMARY:5-Daagse Zomerretraite met Yoyo: 'Het Mysterie van ons Bestaan'
DESCRIPTION:HET MYSTERIE VAN ONS BESTAAN30 juli t/m 3 augustus \nNiet-weten \nOns bestaan is één groot mysterie. Ondanks alles wat de wetenschap en de technologie door de eeuwen heen hebben ontdekt\, bedacht en ontwikkeld weten we nog steeds niet wie of wat we zijn. Hoe groot het universum is. Welke intelligentie ten grondslag ligt aan de sublieme ordening en onvoorstelbare chaos. die elkaar daarin afwisselen.  Hoe we\, samen met miljarden andere verbazingwekkende levensvormen uit dit minuscule planeetje in dat oneindige heelal zijn gegroeid(. Waar we de moed vandaan halen om te leven met oorlog\, onrechtvaardigheid\, haat\, ziekte\, ellende en het besef van onze dood. Achter alle bronnen van kennis\, achter alles wat we (geleerd hebben te) geloven\, doemt steeds weer een groot vraagteken op. \nIn deze 5-daagse retraite gaan we dan ook niet proberen om het mysterie te ontrafelen. We gaan het (be)leven. We delen onze ervaringen\, ons diepste verlangen\, onze pijn en ons hart. We vieren het niet-weten en (her-) spelenderwijs de verwondering van het kind\, de magie van de liefde. en de ontroering bij het ervaren van schoonheid.  \nLocatieHet Ohana Centrum voor well-being is een perfecte plek om een nieuw licht te laten schijnen op jezelf\, anderen en de wereld. De bijzondere architectuur van het gebouw draagt bij aan een intieme sfeer. Er is een mooie groepsruimte en de tien slaapkamers hebben ieder een eigen karakter. Daarnaast kunnen we gebruik make van de hot-tub in de tuin en de infrarood sauna. In de landelijke en bosrijke omgeving kun je heerlijk wandelen of zwemmen (er is een meertje in de buurt). Voor de inwendige mens worden we driemaal daags verwend met de culinaire (vegetarische) creaties van Suzanne Jacobs (zie ‘Zen in Eten’). \nProgamma \nOnze samenkomsten zijn van 10.00-13.00 uur en van 16.00-18.00 uur. Het programma volgt de flow van wat zich per moment aandient. Hierbij maken we gebruik van spontane interactie\, dans\, yoga\, mind-shifting\, nurturing touch\, stemexpressie\, meditatie en vooral: de Bevrijdende Lach. Aanvang: woensdag 30 juli 10.00 uur.  Eindevaluatie: zondag 3 augustus na de lunch. Vertrek: 16.00 uur. \nInvestering: \nDeelname € 400\,-.Verblijfskosten € 630\,- p.p. op basis van 1-persoonskamer\, inclusief alle maaltijden. \nInformatie en boeking: mail naar yoyo@laborint.nl of bel/app naar 06-22492501.                        
URL:https://www.yoyo.nl/event/zomerretraite-met-yoyo/
LOCATION:’t Laborint\, Oost-Peterstraat 31\, Arnhem\, Gelderland\, 6822AD\, Netherlands
ATTACH;FMTTYPE=image/jpeg:https://www.yoyo.nl/wp-content/uploads/2025/04/We-are-forever-blowing-bubbles.jpg
END:VEVENT
END:VCALENDAR